BEGIN:VCALENDAR
VERSION:2.0
PRODID:-//wp-events-plugin.com//7.2.3.1//EN
TZID:Europe/Paris
X-WR-TIMEZONE:Europe/Paris
BEGIN:VEVENT
UID:5@fnehad.fr
DTSTART:20151202T153000Z
DTEND:20151202T200000Z
DTSTAMP:20151130T085100Z
URL:https://www.fnehad.fr/evenement/19e-journee-nationale-de-lhospitalisat
 ion-a-domicile/
SUMMARY:19e Journée Nationale de l'Hospitalisation à Domicile
DESCRIPTION:\n"A l'aide !" Quels soutiens pour les aidants ?\nConditions d
 ’inscription : Votre inscription sera considérée comme définitive à
  réception de votre demande d’inscription et du paiement de vos frais
  d’inscription. Tous les tarifs sont indiqués TTC. \nLa FNEHAD se ré
 serve le droit de refuser des inscriptions à la Journée Nationale. Si te
 l était le cas\, vous recevrez un mail vous informant de cette annulation
 .\nConditions d’annulation : aucun remboursement ne sera possible pour l
 es demandes d’annulation postérieures au 24 novembre 2015. Avant cette
  date\, le remboursement s’élèvera à 50 % du montant réglé.\n\nLa 
 FNEHAD se réserve le droit de remplacer un animateur ou le contenu de son
  programme si les circonstances indépendantes de sa volonté l’y oblig
 ent.\n\n&gt\;&gt\; programme \n\n&nbsp\;
CATEGORIES:Journée Nationale
LOCATION:Salons de l'Aveyron\, 17 rue de l'Aubrac \, Paris\, 75012\, France
GEO:48.8348528;2.3864445000000387
X-APPLE-STRUCTURED-LOCATION;VALUE=URI;X-ADDRESS=17 rue de l'Aubrac \, Paris
 \, 75012\, France;X-APPLE-RADIUS=100;X-TITLE=Salons de l'Aveyron:geo:48.83
 48528,2.3864445000000387
END:VEVENT
END:VCALENDAR