BEGIN:VCALENDAR
VERSION:2.0
PRODID:-//wp-events-plugin.com//7.2.3.1//EN
TZID:Europe/Paris
X-WR-TIMEZONE:Europe/Paris
BEGIN:VEVENT
UID:51@fnehad.fr
DTSTART;VALUE=DATE:20161207
DTEND;VALUE=DATE:20161209
DTSTAMP:20161110T155133Z
URL:https://www.fnehad.fr/evenement/20es-journees-nationale-de-lhospitalis
 ation-a-domicile-intervenant/
SUMMARY:20es Journées Nationale de l'hospitalisation à domicile - INTERVE
 NANT
DESCRIPTION:
CATEGORIES:Journée Nationale
LOCATION:Salons de l'Aveyron\, 17 rue de l'Aubrac \, Paris\, 75012\, France
GEO:48.8348528;2.3864445000000387
X-APPLE-STRUCTURED-LOCATION;VALUE=URI;X-ADDRESS=17 rue de l'Aubrac \, Paris
 \, 75012\, France;X-APPLE-RADIUS=100;X-TITLE=Salons de l'Aveyron:geo:48.83
 48528,2.3864445000000387
END:VEVENT
END:VCALENDAR