BEGIN:VCALENDAR
VERSION:2.0
PRODID:-//wp-events-plugin.com//7.2.3.1//EN
TZID:Europe/Paris
X-WR-TIMEZONE:Europe/Paris
BEGIN:VEVENT
UID:55@fnehad.fr
DTSTART:20170309T083000Z
DTEND:20170309T173000Z
DTSTAMP:20170304T083549Z
URL:https://www.fnehad.fr/evenement/patient-traceur/
SUMMARY:PATIENT TRACEUR
DESCRIPTION:Durée : 1 jour\nPublic : Tout public\n\nObjectifs pédagogique
 s :\n&gt\; Comprendre la place du patient traceur dans la V2014\n&gt\; Dé
 couvrir la méthode du patient traceur\n&gt\; S’approprier la méthode d
 u patient traceur en HAD\n\nMéthodes pédagogiques :\n&gt\; Cette formati
 on concrète\, à finalité opérationnelle\, est animée par un expert ch
 oisi par la FNEHAD sur la base de sa maîtrise du sujet traité et de sa f
 aculté pédagogique à transmettre son savoir et son expertise.\n&gt\; Ap
 ports théoriques\n&gt\; Retours d'expériences\n\nCoût :\n390\,00 € pr
 ix net\nFrais de restauration inclus\nATTENTION : les paiements directs pa
 r les OPCA et les paiements par chèque ne sont plus acceptés\nPour tout 
 renseignement contacter :\nService Formation\nTél : 01 55 43 09 08\nFax :
  01 55 43 09 04\nMail : formation@fnehad.fr\n\n&gt\;&gt\; Programme
LOCATION:Hôtel Holiday Inn'\, 79-81\, avenue du Maine\, PARIS\, 75014\, Fr
 ance
GEO:48.8382916;2.3230188
X-APPLE-STRUCTURED-LOCATION;VALUE=URI;X-ADDRESS=79-81\, avenue du Maine\, P
 ARIS\, 75014\, France;X-APPLE-RADIUS=100;X-TITLE=Hôtel Holiday Inn':geo:4
 8.8382916,2.3230188
END:VEVENT
END:VCALENDAR