BEGIN:VCALENDAR
VERSION:2.0
PRODID:-//wp-events-plugin.com//7.2.3.1//EN
TZID:Europe/Paris
X-WR-TIMEZONE:Europe/Paris
BEGIN:VEVENT
UID:558@fnehad.fr
DTSTART:20241113T083000Z
DTEND:20241113T173000Z
DTSTAMP:20241024T140642Z
URL:https://www.fnehad.fr/evenement/rdv-du-numerique-de-la-fnehad-4/
SUMMARY:RDV du Numérique de la FNEHAD
DESCRIPTION:Détails de la formation :\n\nDurée : 1 jour\nPublic : Directe
 ur d’établissement\, Directeur et responsable de système d’informati
 on\, toute personne en charge des questions numériques au sein de l’HAD
 \n\nObjectifs pédagogiques :\n&gt\; Maîtriser les évolutions du Program
 me SONS 2\n&gt\; S’approprier les outils de la plateforme e-santé forma
 tion\n&gt\; Se préparer à répondre aux exigences du programme HOP’EN 
 2\n&gt\; Maîtriser la mise en place des moyens d’identification électr
 onique à double facteur\n&gt\; Appréhender les évolutions du programme 
 Care en matière de cybersécurité\n\nMéthodes pédagogiques :\n&gt\; Ce
 s forums de formations sont animés par des représentants de la FNEHAD et
  des représentants des tutelles.\n&gt\; Alternance de présentations mag
 istrales complétées par un diaporama\n&gt\; Questions-réponses au cours
  des interventions pour approfondir le sujet\n&gt\; Documentation remise a
 ux participants\, sous réserve de l’accord des intervenants\, reprenant
  le support papier de chaque intervention.\n\nMéthodes d’évaluation :
  questionnaire avant/après distribué en séance.\n\nPersonnes en situat
 ion de handicap :\nNos formations peuvent être accessibles aux personnes 
 en situation de handicap. Chaque situation étant unique\, nous vous remer
 cions de nous contacter dès votre inscription.\nNous pourrons ainsi confi
 rmer l’ensemble des possibilités d’accueil et vous permettre de suivr
 e la formation dans les meilleures conditions.\nRéférente handicap : Gue
 nièvre Moine\ng.moine@fnehad.fr – 07 43 36 11 04\n\nTaux de satisfactio
 n de la formation : 7\,4/10\n\nCoût :\n185 € prix net\nATTENTION : les 
 paiements directs par les OPCO et les paiements par chèque ne sont plus a
 cceptés\nPour tout renseignement contacter :\nService Formation\nTél : 0
 1 55 43 09 08\nFax : 01 55 43 09 04\nMail : formation@fnehad.fr\n\n&gt\;&g
 t\; Programme
CATEGORIES:Formation
LOCATION:FNEHAD\, 8 rue Fallempin\, PARIS\, 75015\, France
GEO:48.84898339999999;2.2926122
X-APPLE-STRUCTURED-LOCATION;VALUE=URI;X-ADDRESS=8 rue Fallempin\, PARIS\, 7
 5015\, France;X-APPLE-RADIUS=100;X-TITLE=FNEHAD:geo:48.84898339999999,2.29
 26122
END:VEVENT
END:VCALENDAR