BEGIN:VCALENDAR
VERSION:2.0
PRODID:-//wp-events-plugin.com//7.2.3.1//EN
TZID:Europe/Paris
X-WR-TIMEZONE:Europe/Paris
BEGIN:VEVENT
UID:686@fnehad.fr
DTSTART:20251210T133000Z
DTEND:20251210T220000Z
DTSTAMP:20251208T161451Z
URL:https://www.fnehad.fr/evenement/universites-dhiver-2025-invites/
SUMMARY:Universités d'Hiver 2025 · Invités
DESCRIPTION:Au secours l'IA !\n\nMercredi 10 décembre\nSalons de l'Aveyron
 \, PARIS 12ème\nMercredi 10 décembre prochain se tiendront nos Universit
 és d'hiver de l'HAD\, aux Salons de l'Aveyron\, Paris 12ème\, en présen
 ce des ministres Madame Charlotte PARMENTIER-LECOCQ\, Ministre chargée de
  l’Autonomie et des Personnes handicapées et Madame Stéphanie RIST\, M
 inistre de la Santé\, des Familles\, de l’Autonomie et des Personnes ha
 ndicapées.\n\n&nbsp\;\n\n13H30 | ACCUEIL\n\n14H00 | OUVERTURE\n\n 	Dr Él
 isabeth HUBERT\, Ancienne Ministre\, Présidente de la FNEHAD\n 	Charlotte
  PARMENTIER-LECOCQ\, Ministre chargée de l’Autonomie et des Personnes h
 andicapées\n\n14h30 | QUAND L'IA ENFILE LA BLOUSE BLANCHE\nModération pa
 r David GRUSON\, Directeur de Programme Santé à Domicile à La Poste San
 té &amp\; Autonomie \n\n 	Jean-Baptiste PERNEY\, Fondateur de e-sensia\n 
 	Thomas GODARD\, Directeur du développement d’OSO-AI\n 	Stéphanie KERV
 ESTIN\, Directrice générale de l’ARIIS\n 	Jean LESSI\, Directeur gén
 éral de la Haute Autorité de Santé\n\n15h20 | GRAND TÉMOIN\n\n 	Pr Rap
 haël GAILLARD\, Professeur de psychiatrie\, auteur de L’homme augment
 é\, membre de l'Académie française\n\n15h40 | L’ÉTHIQUE A-T-ELLE ENC
 ORE SA PLACE DANS LA MACHINE ?\nModération par Sandrine RICHARD\, expert 
 indépendant\, membre du comité éthique de Docaposte \n\n 	Agnès BUZYN\
 , Présidente d’Évidences\, ancienne Ministre de la Santé et des Solid
 arités\,\n 	Daniel BENAMOUZIG\, Directeur de recherche au CNRS\, titulair
 e de la Chaire Santé de Sciences Po\n 	Amah KOUÉVI\, Directeur de l’In
 stitut français de l’expérience patient\n\n16h15 | PAUSE\n\n16h40 | LE
  REGARD DE L'ÉCONOMISTE \n\n 	Frédéric BIZARD\, Professeur d’écono
 mie\, ESCP\, Président fondateur de l’Institut Santé\n\n17h00 | LE POL
 ITIQUE PEUT-IL IMPOSER "LE BON USAGE" DE L'IA ?\nModération par David SAI
 NATI\, Co-responsable du numérique en santé à la Délégation au numér
 ique en Santé\n\n\n 	Yannick NEUDER\, Député de l'Isère\, Ancien Minis
 tre chargé de la Santé et de l'Accès aux soins\n 	Charles-Édouard ESCU
 RAT\, Directeur général de l’Agence de l’innovation en Santé\n 	Ann
 e LE HÉNANFF\, Ministre chargée de l’Intelligence artificielle et du N
 umérique\n\n17h40 | ALLOCUTIONS DE CLÔTURE\n\n 	Dr Élisabeth HUBERT\, a
 ncienne Ministre\, Présidente de la FNEHAD\n 	Stéphanie RIST\, Ministre 
 de la Santé\, des Familles\, de l'Autonomie et des Personnes handicapées
 \n\n19h00 · 22h00 | COCKTAIL DÎNATOIRE\n\n&nbsp\;\n\n Télécharger le p
 rogramme\n&nbsp\;\n⚠️️ Inscription gratuite mais obligatoire\n*parti
 cipation sous-réserve de confirmation
CATEGORIES:Universités d'hiver,VIP
LOCATION:Salons de l'Aveyron\, 17 Rue de l'Aubrac\, Paris\, France
GEO:48.8348528;2.3864445
X-APPLE-STRUCTURED-LOCATION;VALUE=URI;X-ADDRESS=17 Rue de l'Aubrac\, Paris\
 , France;X-APPLE-RADIUS=100;X-TITLE=Salons de l'Aveyron:geo:48.8348528,2.3
 864445
END:VEVENT
END:VCALENDAR